BEGIN:VCALENDAR
VERSION:2.0
PRODID:-//archery.my - ECPv6.15.19//NONSGML v1.0//EN
CALSCALE:GREGORIAN
METHOD:PUBLISH
X-WR-CALNAME:archery.my
X-ORIGINAL-URL:https://archery.my
X-WR-CALDESC:Events for archery.my
REFRESH-INTERVAL;VALUE=DURATION:PT1H
X-Robots-Tag:noindex
X-PUBLISHED-TTL:PT1H
BEGIN:VTIMEZONE
TZID:Asia/Kuala_Lumpur
BEGIN:STANDARD
TZOFFSETFROM:+0800
TZOFFSETTO:+0800
TZNAME:+08
DTSTART:20190101T000000
END:STANDARD
END:VTIMEZONE
BEGIN:VEVENT
DTSTART;VALUE=DATE:20210319
DTEND;VALUE=DATE:20210322
DTSTAMP:20260422T083112
CREATED:20210310T083946Z
LAST-MODIFIED:20210311T071526Z
UID:10000015-1616112000-1616371199@archery.my
SUMMARY:2021 Malaysia Women’s Archery Remote Scoring Challenge
DESCRIPTION:2021 Malaysia Women’s Archery Remote Scoring Challenge\n\n\n\n\n\n\nPenganjur\nPersatuan Memanah Kebangsaan Malaysia dan Persatuan Memanah Negeri Pulau Pinang \nMuat Turun/Download Maklumat Kejohanan\nMaklumat Kejohanan \n \nPendaftaran \nSila buat pendaftaran di laman Open MAREOS http://www.mareos.masarchery.org \nJika belum mendaftar Open MAREOS\, sila click new archer untuk pendaftaran baru. \nSENARAI PESERTA \n\nTarikh Kejohanan \n19 hingga 21 Mac 2021 \nMasa\n8 pagi (19/3/2021) hingga 7 petang (21/3/2021) \nMatlamat\nBanyak pertandingan telah dibatalkan kerana COVID-19 tahun ini. Kejohanan in khas untuk PEMANAH WANITA sahaja. Kami akan mengadakan pertandingan ini supaya banyak pemanah dapat menikmati aktiviti memanah dan bergaul dengan orang lain dari jauh. \nVenue\nBoleh memanah dari rumah / kelab atau premis latihan masing-masing. Sekiranya dibuat di premis latihan dan mempunyai ramai penyertaan\, sila patuhi SOP penjarakan fizikal yang telah ditetapkan. \nKelayakan Penyertaan\nTerbuka kepada seluruh pemanah wanita di seluruh negara. \nAcara\nIndividu sahaja \n\n\n\n\n\nACARA\nKOD\nJARAK\nTARGET FACE\n\n\n\n\nCompound Women Open\nCW\n18m\nCompound Triple Spot (Vertical) Target Face\n\n\nRecurve Women Open\nRW\n18m\nRecurve Triple Spot (Vertical) Target Face\n\n\nRecurve Women Under-15\nRCW\n18m\nRecurve Triple Spot (Vertical) Target Face\n\n\nBarebow Women Open\nBW\n18m\nSingle Spot 40cm Target Face\n\n\nRecurve Girl Under-12\nRG\n18m\nSingle Spot 40cm Target Face\n\n\n\n\n\n\nHad Penyertaan\nTiada had penyertaan. \nYuran\nTiada yuran dikenakan. \nPendaftaran \n\nSila buat pendaftaran di laman Open MAREOS http://www.mareos.masarchery.org\nJika belum mendaftar Open MAREOS\, sila click new archer untuk pendaftaran baru.\n\nTarikh tutup\n15 Mac 2021 jam 5.00pm \nHadiah & Anugerah\nSemua peserta akan menerima sijil penyertaan digital.\nSijil pencapaian (digital) akan diberikan kepada kedudukan 1 hingga 3 bagi setiap kategori.\nPemenang bagi setiap kategori kedudukan 1 hingga 3 akan menerima Baucer daripada LA Sports seperti di bawah: \n\n\n\n\nKATEGORI\nPERTAMA\nKEDUA\nKETIGA\n\n\n\n\nRecurve Women\nRM90\nRM70\nRM40\n\n\nCompound Women\nRM90\nRM70\nRM40\n\n\nBarebow Women\nRM90\nRM70\nRM40\n\n\nRecurve Women Under 15\nRM90\nRM70\nRM40\n\n\nRecurve Girl Under 12\nRM90\nRM70\nRM40\n\n\n\n\nLangkah-langkah Pemarkahan \n\nMuat turun aplikasi  IANSEO SCORE KEEPER dalam smartphone anda.\n\nIanseo Scorekeeper for iOS\nIanseo Scorekeeper for Android\n\n\n\n\nSkor kad anda akan dimuat-naik di ianseo (https://www.ianseo.net/Details.php?toid=8142) selepas tarikh tutup mengikut kategori masing-masing.  Sila cetak skor kad tersebut untuk scoring secara manual. Untuk scoring di telefon pintar anda\, sila imbas QR kod yang ada pada skor kad.\n\n\nSelepas selesai scoring sila emailkan skor kad anda dalam bentuk PDF atau gambar sebelum atau pada jam 7.00malam (21/3/2021) ke:\n\nRecurve Women: fml@upm.edu.my\nCompound Women: gejetto@gmail.com\nBarebow Women: zulizziam@gmail.com\nRecurve Women Under 15: crazetech@gmail.com\nRecurve Women Under 12: yyakimin@gmail.com \n\nRingkasan langkah yang perlu anda lakukan sebagai peserta.\n\nMuat turun Ianseo Scorekeeper\nMuat turun skor kad anda.\n\n\n\n\n\n\nScoring secara manual MESTI dicatatkan di dalam skor kad anda.\nOnline Scoring” menggunakan aplikasi Ianseo Scorekeeper\nEmail skor kad manual anda.\n\n\n\n\n\n\nStatus skor rasmi anda adalah tertakluk ke atas peraturan di bawah :\n\n\n\n\nNO\nSCORING MANUAL\nSCORING APLIKASI\nEMAIL BUKTI SCORE CARD\nSTATUS SCORE\n\n\n\n\n1\nYA\nYA\nYA\nOK!\n\n\n2\nYA\nTIDAK\nYA\nDNF\n\n\n3\nYA\nYA\nTIDAK\nDNF\n\n\n4\nTIDAK\nYA\nTIDAK\nDNF\n\n\n\n*DNF : Did Not Finish \n\n\n\n\nSila ikuti langkah-langkah ini dengan teliti bagi mengelak sebarang kesulitan di pihak penganjur dan peserta lain. Sebarang kelewatan pengisian markah atau emel bukti skor tidak akan di layan.\nKeputusan rasmi akan dikeluarkan pada jam 9.00 malam 21 Mac 2021. Keputusan boleh di lihat di https://www.ianseo.net/Details.php?toid=8142\n\nPeraturan dan Etika \n\nKejohanan ini bukan kejohanan rasmi. Semua rekod yang terhasil dari kejohanan ini tidak layak untuk sebarang pengiktirafan.\nMemanah dari tempat anda sendiri. Jika anda  memanah di lapang sasar negeri  atau Persatuan atau kelab atau di mana-mana tempat yang memerlukan kebenaran\,  anda harus memastikan bahawa anda telah mendapat kebenaran dari pihak yang berkenaan.\nSila patuhi jarak dan target face mengikut kategori anda dan juga tarikh dan masa yang telah ditetapkan\nTiada Hakim yang akan bertugas semasa permarkahan dijalankan. Oleh itu\, keikhlasan dan kejujuran setiap peserta sangat dihargai untuk memastikan permarkahan yang adil dan saksama.\nPatuhi SOP Covid-19 yang telah ditetapkan. Bersama kita putuskan rantaian Covid-19. Pihak penganjur tidak bertanggungjawab terhadap sebarang perlanggaran SOP Covid-19 oleh para peserta.\nKongsikan gambar anda dalam laman sosial media (facebook/Instagram/twitter) menggunakan #wars2021.\n\nPertanyaan \nCIK SALINA PUTRIANA BINTI ERIERPIUS: 012-8188012\nEN MUKRIZ MOHAMED: 013-3525586\nEN MUHAMMAD ZUL IZZI AB MANAFF: 019-3941984
URL:https://archery.my/event/2021-malaysia-womens-archery-remote-scoring-challenge/
LOCATION:Remote Scoring\, Selangor\, Malaysia
CATEGORIES:Tournament
ATTACH;FMTTYPE=image/jpeg:https://archery.my/wp-content/uploads/2021/03/2021-malaysia-womens-archery-remote-scoring-challenge.jpg
END:VEVENT
BEGIN:VEVENT
DTSTART;VALUE=DATE:20201219
DTEND;VALUE=DATE:20201223
DTSTAMP:20260422T083112
CREATED:20200928T055255Z
LAST-MODIFIED:20200928T055255Z
UID:10000011-1608336000-1608681599@archery.my
SUMMARY:16th Sarawak Indoor Archery Championship
DESCRIPTION:[vc_row][vc_column width=”2/3″][vc_custom_heading text=”16th Sarawak Indoor Archery Championship / 20th Anniversary King’s Archery Individual Championship” google_fonts=”font_family:Abel%3Aregular|font_style:400%20regular%3A400%3Anormal”][vc_column_text] \nInvitation to association/club to participate in the above championships to be organized in MIRI Indoor Stadium\, Miri\, Sarawak\, Malaysia on December 19 – 22\, 2020 by the Sarawak Archery Association and the Majlis Sukan Negeri Sarawak. \nStated below are the details of the tournament: \nDate : December 18\, 2020 (Friday)\nArrivals of participants & Officials\nJudges Meeting at the Stadium \nDecember 19\, 2020 (Saturday)\nRegistration – 8.00 a.m.\nOfficial Practice / Equipment Inspection – 8.00 a.m.\nTeam Managers Meeting – 10.00 a.m. \nYouth Event\nOfficial Practice Group A – 1.00 p.m.\nQualification Rounds – 1.15 p.m. \nDecember 20\, 2020 (Sunday)\nOpen Event – Qualification Rounds\nOfficial Practice Group B – 8.00 a.m.\nQualification Rounds – 8.15 a.m. \nLunch Break – 11.45 a.m. \nOPENING CEREMONY – 12.30 p.m.\nOfficial Practice Group C – 1.50 p.m.\nQualification Rounds – 2.00 p.m. \nDecember 21\, 2020 (Monday)\nOpen Event – Individual match Rounds\nOfficial Practice – 8.00 a.m.\nIndividual Match Round – 8.30 a.m.\nLunch Break – 11.00 a.m.\nOfficial Practice – 12.30 p.m.\nIndividual Match Round till Bronze – 1.20 a.m. \nDecember 22\, 2020 (Tuesday)\nOpen Event – TEAM match Rounds\nOfficial Practice – 8.00 a.m.\nTeam Match Round – 9.00 p.m.\nIndividual Final Match Round – 2.30 p.m. \nPrize Giving / CLOSING CEREMONY- 4.30 p.m. \nDecember 23\, 2020 (Wednesday)\nDeparture \nVenue: MIRI Indoor Stadium\, Miri\, Sarawak\, Malaysia \nFormat:\n– Indoor Match Rounds Indoor 18M Round (30 arrows x 2 rounds) as the Qualification Round.\n– 40cm Vertical Triple Face will be used for the Open events.\n– The Youth events will be shooting 60cm Target Face 18M Round only (30 arrows x 2 rounds).\n– The shooting distance is 18 meters for Qualification Round\, Individual and Team Match Rounds.\nThere will be no match round for the Youth events. \nCategories:\n(a) Open Events for\n– Recurve Divisions for Women & Men\,\n– Compound Divisions for Women & Men\, and \n(b) Youth Event for individual Recurve for Women & Men under the following age categories:\n– Aged under 16 years;\n– Aged under 12 years. \nRules:\n– Recent WA Indoor Target Archery Rules.\n– Uniform is required for Team events.\n– Youth Event is opened for under two age categories. They can use any type of arrows & recurve bow.\n– Youths can participate in both Youth & the Open Events provided both entrance fees have been paid.\nIn case of Covid-19 Lockdown for Sarawak\, The Organizer will not be responsible for claims whatever occurred to the participants for coming to the Championship. \nClosing Date:\nAll entries together with Entrance Fees must reach the Organizers on or before 5 December\, 2020 (Saturday).\nEntries should be sent by FAX to 6085-285988 using the Official Entry Form attached; OR email to chongyapjin@gmail.com.\nPayment must be made payable to PERSATUAN MEMANAH BAHAGIAN MIRI.\nAccount Number: 110270010060551 (ALLIANCE  BANK) .\nLate entries will only be entertained pending on available of target and upon paying additional RM20.00 per archer. \nFor enquiries please contact either:\nMr. Chong Yap Jin 013-8035630\, 6085-285405 or\nMr. David Ting Tai Pang 016-8790555. \n[/vc_column_text][/vc_column][vc_column width=”1/3″][vc_column_text] \nDownload Registration Form \n[/vc_column_text][/vc_column][/vc_row]
URL:https://archery.my/event/16th-sarawak-indoor-archery-championship/
LOCATION:Miri Indoor Stadium\, Miri Indoor Stadium\, Miri\, Sarawak\, 98000\, Malaysia
CATEGORIES:Tournament
ATTACH;FMTTYPE=image/jpeg:https://archery.my/wp-content/uploads/2019/10/yb-seputeh-2019.jpg
END:VEVENT
BEGIN:VEVENT
DTSTART;VALUE=DATE:20201202
DTEND;VALUE=DATE:20201207
DTSTAMP:20260422T083112
CREATED:20200915T052825Z
LAST-MODIFIED:20201117T055623Z
UID:10000002-1606867200-1607299199@archery.my
SUMMARY:Johor International Archery Tournament 2020 (DIBATALKAN)
DESCRIPTION:[vc_row][vc_column width=”2/3″][vc_column_text]Maklumat lanjut kejohanan akan menyusur….. \n  \nNota: Tertakluk kepada pindaan oleh penganjur[/vc_column_text][/vc_column][vc_column width=”1/3″][vc_widget_sidebar sidebar_id=”home-loop”][/vc_column][/vc_row]
URL:https://archery.my/event/johor-international-archery-tournament-2020/
LOCATION:TBA\, Johor Bahru\, Johor\, Malaysia
CATEGORIES:Tournament
ATTACH;FMTTYPE=image/jpeg:https://archery.my/wp-content/uploads/2020/09/maxresdefault-4-antique.jpg
END:VEVENT
BEGIN:VEVENT
DTSTART;VALUE=DATE:20201124
DTEND;VALUE=DATE:20201130
DTSTAMP:20260422T083112
CREATED:20200917T051656Z
LAST-MODIFIED:20201117T055724Z
UID:10000010-1606176000-1606694399@archery.my
SUMMARY:Kejohanan Memanah Para-Archery Kebangsaan (DIBATALKAN)
DESCRIPTION:[vc_row][vc_column][vc_column_text]Maklumat lanjut kejohanan akan menyusur… \n  \nBorang pendaftaran: Secara Online\nTarikh Tutup: 31 Oktober 2020\nNota: Tertakluk kepada pindaan oleh penganjur[/vc_column_text][/vc_column][/vc_row]
URL:https://archery.my/event/kejohanan-memanah-para-archery-kebangsaan/
LOCATION:Arena Emas\, Johor\, Jalan Selatan 11\, Taman Impian Emas\, Arena Emas\, Skudai\, Johor\, 81300
CATEGORIES:Tournament
ATTACH;FMTTYPE=image/jpeg:https://archery.my/wp-content/uploads/2020/09/para-archery.jpeg
END:VEVENT
BEGIN:VEVENT
DTSTART;VALUE=DATE:20201107
DTEND;VALUE=DATE:20201108
DTSTAMP:20260422T083112
CREATED:20201013T161017Z
LAST-MODIFIED:20201013T161017Z
UID:10000014-1604707200-1604793599@archery.my
SUMMARY:MALAYSIA COVID 19 REMOTE SCORING CHALLENGE
DESCRIPTION:[vc_row][vc_column width=”2/3″][vc_custom_heading text=”MALAYSIA COVID 19 REMOTE SCORING CHALLENGE” font_container=”tag:h2|text_align:center” google_fonts=”font_family:Abel%3Aregular|font_style:400%20regular%3A400%3Anormal”][vc_column_text]DATE\n7 November 2020 \nTIME\n9:00AM to 19:00PM (Malaysia time) \nAIM\nDue to many events have been cancelled because of COVID-19 this year. We will hold this competition so that many archers can enjoy doing archery and getting on with others remotely. \nVENUE\nYou can participate from anywhere in the whole country or world. \nQUALIFICATION REQUIREMENTS\nOpen to all archers \nEVENT\nIndividual only\n–          Recurve men open                  70M rounds 122cm\n–          Recurve women open            70M rounds 122cm\n–          Recurve men under 15           50M rounds 122cm\n–          Recurve women under 15     50M rounds 122cm\n–          Recurve boy under 12             30M rounds 122cm\n–          Recurve girl under 12              30M rounds 122cm\n–          Compound men open            50M rounds 80cm 6 rings\n–          Compound women open      50M rounds 80cm 6 rings\n–          Barebow men open                50M rounds 122cm\n–          Barebow women open          50M rounds 122cm \nLIMITATION OF PARTICIPANT\nUnlimited \nFEES\nFree \nREGISTRATION\nPlease fill up the form at this link à https://forms.gle/P6vUPvnTm84m2k9d8 \nDEADLINE\n31 October 2020 \nAWARD\nAll participant will be received e-certificate (PDF by email)\nAll winner 1 – 10 for each category will be received e-certificate (PDF by email) \nHOW TO SCORE \n\nInstall IANSEO SCORE KEEPER on your smartphone.\nIanseo Scorekeeper for iOS\nIanseo Scorekeeper for Android\nDedicated scorecard will be sent to participant via email on 6 November 2020. Please print and scan the QR code on the scorecard for scoring.\nScoring on both printed scorecard and smartphone.\nPlease send back the scorecard (can be in JPEG\,PNG/PDF) before 19:00pm\, 7 November 2020 via email sec.masarchery@gmail.com\nPlease post pictures of the competition on the National Archery Association of Malaysia Facebook and let us know the situation in each region. Those photos may be used secondarily on the SNS and various media of cosponsoring companies. https://www.facebook.com/nationalarcheryassociationofmalaysia\nThe results will be published officially after 22:00\, 7 November 2020 on www.ianseo.net\n\nRULES & ETHICS \n\nThis competition is not an official event. All records that make on this competition is not valid to claim for any record.\n\nNo judge was on duty during the scoring. therefore\, the sincerity and honesty of each participant is greatly appreciated to ensure fair and equitable scoring.[/vc_column_text][vc_custom_heading text=”Bersama kita memutuskan rantaian Covid-19 di Malaysia\n#StaySafe #KitaJagaKita” font_container=”tag:h2|text_align:center” google_fonts=”font_family:Abel%3Aregular|font_style:400%20regular%3A400%3Anormal”][/vc_column][vc_column width=”1/3″][vc_widget_sidebar sidebar_id=”home-loop”][/vc_column][/vc_row]
URL:https://archery.my/event/malaysia-covid-19-remote-scoring-challenge/
LOCATION:Selangor
CATEGORIES:Tournament
ATTACH;FMTTYPE=image/png:https://archery.my/wp-content/uploads/2020/03/logo-naam-memanah-msia.png
END:VEVENT
BEGIN:VEVENT
DTSTART;VALUE=DATE:20201102
DTEND;VALUE=DATE:20201109
DTSTAMP:20260422T083112
CREATED:20201006T050633Z
LAST-MODIFIED:20201006T153447Z
UID:10000013-1604275200-1604879999@archery.my
SUMMARY:Kejohanan Memanah Remaja Kebangsaan 2020 (DIBATALKAN)
DESCRIPTION:[vc_row][vc_column width=”2/3″][vc_column_text] \nAdalah dimaklumkan bahawa penganjuran Kejohanan Memanah Remaja Kebangsaan 2020 yang dijadualkan akan berlangsung pada 03 hingga 08 November 2020 bertempat di Kompleks Sukan MSN Taman Keramat\, DITANGGUHKAN ke satu tarikh yang akan dimaklumkan kelak. \nKeputusan penangguhan dibuat setelah mengambil kira situasi peningkatan jumlah kes positif Covid-19 dan sebagai langkah berjaga-jaga untuk mengelakkan risiko penyebaran wabak tersebut dengan lebih teruk. \nSila Patuhi SOP yang ditetapkan oleh KKM\n#StaySafe\, #KitaJagaKita\n  \nTarikh : 6 Oktober 2020[/vc_column_text][/vc_column][vc_column width=”1/3″][vc_widget_sidebar sidebar_id=”home-loop”][/vc_column][/vc_row]
URL:https://archery.my/event/kejohanan-memanah-remaja-kebangsaan-2020/
LOCATION:Kompleks Sukan MSN Keramat\, Msn Sports Complex\, AU 2\, Kuala Lumpur\, Kuala Lumpur\, 54200\, Malaysia
CATEGORIES:Tournament
ATTACH;FMTTYPE=image/jpeg:https://archery.my/wp-content/uploads/2019/07/slide.jpg
END:VEVENT
BEGIN:VEVENT
DTSTART;VALUE=DATE:20201021
DTEND;VALUE=DATE:20201026
DTSTAMP:20260422T083112
CREATED:20201004T064215Z
LAST-MODIFIED:20201004T092845Z
UID:10000012-1603238400-1603670399@archery.my
SUMMARY:Kejohanan Memanah Terbuka IPT 2020 (DITANGGUHKAN)
DESCRIPTION:[vc_row][vc_column][/vc_column][/vc_row][vc_row][vc_column width=”2/3″][vc_column_text] \nTerkini: Kejohanan ditangguhkan selaras dengan saranan Kementerian Pengajian Tinggi (KPT) serta nasihat daripada pihak Pengurusan Tertinggi UniSZA\nTarikh: 4 Oktober 2020 \nDukacita dimaklumkan bahawa Kejohanan Memanah Terbuka IPT 2020 yang dijadualkan akan berlangsung pada 21 hingga 25 Oktober ini di UniSZA Kampus Gong Badak terpaksa DITANGGUHKAN selaras dengan kenyataan media yang dikeluarkan oleh pihak Kementerian Pengajian Tinggi serta nasihat daripada pihak Pengurusan Tertinggi UniSZA. \nKeputusan ini dibuat sebagai usaha untuk mengurangkan risiko jangkitan di kalangan peserta/petugas dan ianya merupakan langkah terbaik yang perlu diambil untuk menyekat penularan pandemik Covid-19 yang semakin meningkat buat masa ini. Tarikh baru kejohanan masih belum ditetapkan dan ianya adalah tertakluk kepada keadaan dan situasi semasa pandemik yang melanda negara. Tarikh baru kejohanan akan dimaklumkan selewat-lewatnya satu bulan sebelum kejohanan berlangsung kelak. \nPihak Jawatankuasa Penganjur memohon maaf di atas kekangan yang berada di luar kawalan ini dan diharap agar semua pihak akur serta dapat menerima keputusan ini dengan baik demi keselamatan dan kesihatan kita bersama. \nPatuhi SOP\, Stay Safe\, #KitaJagaKita. \n\n[/vc_column_text][vc_column_text]Kementerian Pengajian Tinggi (KPT) dengan kerjasama Universiti Sultan Zainal Abidin (UniSZA) akan menganjurkan Kejohanan Memanah Terbuka IPT 2020. \nNama Kejohanan: Kejohanan Memanah Terbuka IPT 2020\nTarikh: 21 – 25 Oktober 2020\nLokasi: UniSZA Kampus Gong Badak \nPenyertaan pasukan boleh dibuat dengan menghantar Borang Pendaftaran yang disertakan bermula 1 sehingga 30 September 2020. Penyertaan adalah terhad. \nSebarang pertanyaan boleh berhubung terus dengan Encik Suhardi bin Abdullah @ Mohd Zain di talian 013-9798789.  \nMaklumat kejohanan seperti dibawah: \nMuat turun Surat Jemputan\nMuat turun Borang Pendaftaran \n  \n \n \n \n  \n  \n  \n[/vc_column_text][/vc_column][vc_column width=”1/3″][vc_widget_sidebar sidebar_id=”home-loop”][/vc_column][/vc_row]
URL:https://archery.my/event/kejohanan-memanah-terbuka-ipt-2020/
LOCATION:Universiti Sultan Zainal Abidin (UniSZA)\, Universiti Sultan Zainal Abidin\, Kampung Gong Badak\, Terengganu\, 21300\, Malaysia
CATEGORIES:Tournament
ATTACH;FMTTYPE=image/jpeg:https://archery.my/wp-content/uploads/2020/08/ipt-2020-ditangguhkan.jpg
END:VEVENT
BEGIN:VEVENT
DTSTART;TZID=Asia/Kuala_Lumpur:20200718T080000
DTEND;TZID=Asia/Kuala_Lumpur:20200718T170000
DTSTAMP:20260422T083112
CREATED:20200706T021512Z
LAST-MODIFIED:20200706T021512Z
UID:10000003-1595059200-1595091600@archery.my
SUMMARY:Kursus Asas Memanah 2020
DESCRIPTION:PKS Memanah Universiti Sultan Zainal Abidin (UniSZA) mempelawa semua warga memanah Malaysia yang berminat untuk mengikuti *Kursus Asas Memanah 2020* anjuran PKS Memanah UniSZA dengan kerjasama NAAM\, yang mungkin pertama kali dianjurkan secara online di Malaysia pada 18\, 19 & 25 Julai 2020 melalui platform Google Meet. \n\nJadual Sesi Adalah Seperti Berikut: \n18/7 : 2.30ptg – 4.30ptg\n19/7 : 10.30pg – 12.30tgh\n19/7 : 2.30ptg – 4.30ptg\n25/7 : 2.30ptg – 4.30ptg \nYuran Penyertaan *RM 30/orang* dan hendaklah dibayar ke akaun Bendahari UniSZA seperti yang tertera di e-flyers sebelum pendaftaran dibuat… \nUntuk tujuan pendaftaran\, sila isi borang melalui link berikut : \nhttps://forms.gle/rvdPdyJwdjBnne17A \nTarikh tutup pendaftaran penyertaan adalah pada *17 Julai 2020* \nPeserta yang membuat pendaftaran dengan lengkap akan diambil maklumat & akan dimasukkan ke dalam group WhatsApp kursus bagi memudahkan komunikasi seterusnya…
URL:https://archery.my/event/kursus-asas-memanah-2020/
LOCATION:Online\, Malaysia
CATEGORIES:Kursus Memanah
ATTACH;FMTTYPE=image/jpeg:https://archery.my/wp-content/uploads/2020/07/kursus-asas-memanah.jpg
END:VEVENT
BEGIN:VEVENT
DTSTART;VALUE=DATE:20200414
DTEND;VALUE=DATE:20200419
DTSTAMP:20260422T083112
CREATED:20200122T134040Z
LAST-MODIFIED:20200315T080605Z
UID:10000008-1586822400-1587254399@archery.my
SUMMARY:7th PKS UniSZA Open Archery Tournament 2020 (DIBATALKAN)
DESCRIPTION:7th PKS UniSZA Open Archery Tournament 2020\nDate: 14th – 18th April 2020  DIBATALKAN\nVenue: UniSZA (Gong Badak Campus)\, Kuala Terengganu \n  \nFormat:\nQualification Round\nRecurve – 70m (6 arrow/end) x 2 | Target Face 122cm\nCompound – 50m (6 arrow/end) x 2 | Target Face 80cm (6 rings) \nElimination Round (Individual)\nRecurve – Distance 70m | Target Face 122cm | Set System – 5 ends (3 arrow/set)\nCompound – Distance 50m | Target Face 80cm (6 rings) | Cumulative scoring – 5 ends (3 arrow/end) \nElimination Round (Team)\nRecurve – Distance 70m | Target Face 122cm | Set System – 4 ends (6 arrow/set)\nCompound – Distance 50m | Target Face 80cm (6 rings) | Cumulative scoring – 4 ends (6 arrow/end) \nElimination Round (Mixed Team)\nRecurve – Distance 70m | Target Face 122cm | Set System – 4 ends (4 arrow/end)\nCompound – Distance 50m | Target Face 80cm (6 rings) | Cumulative scoring – 4 ends (4 arrow/end) \nPrizes\nElimination Round (Individual\, Team & Mixed Team)\n– 1st\, 2nd & 3rd place (all event) | Medal + Cash Money \nOverall Champion (based on medal tally)\ni. Champion – RM2\,000 + Trophy\nii. 1st Runner Up – RM1\,000 + Trophy\niii. 2nd Runner Up – RM500 + Trophy \nRegistration Fees\nAthlete/Official: RM200 / person \nDownload Invitation Letter/Tournament Info
URL:https://archery.my/event/7th-pks-unisza-open-archery-tournament-2020/
LOCATION:Universiti Sultan Zainal Abidin (UniSZA)\, Universiti Sultan Zainal Abidin\, Kampung Gong Badak\, Terengganu\, 21300\, Malaysia
CATEGORIES:Tournament
ATTACH;FMTTYPE=image/png:https://archery.my/wp-content/uploads/2018/08/Universiti-Sultan-Zainal-Abidin-UNISZA-logo.png
END:VEVENT
BEGIN:VEVENT
DTSTART;VALUE=DATE:20200413
DTEND;VALUE=DATE:20200417
DTSTAMP:20260422T083112
CREATED:20200123T014943Z
LAST-MODIFIED:20200315T080515Z
UID:10000009-1586736000-1587081599@archery.my
SUMMARY:Fully Residential School & Invitational International Archery Tournament 2020 (DIBATALKAN)
DESCRIPTION:  \nFully Residential School & Invitational International Archery Tournament 2020\nDate: 13 – 16 April 2020 DIBATALKAN | Venue: Sek Men Agama Persekutuan Kajang (SMAP) \n  \n\n 
URL:https://archery.my/event/fully-residential-school-invitational-international-archery-tournament-2020/
LOCATION:Sek Men Agama Persekutuan Kajang\, Sekolah Menengah Agama Persekutuan Kajang\, Kajang\, Selangor\, 43000\, Malaysia
CATEGORIES:Tournament
ATTACH;FMTTYPE=image/jpeg:https://archery.my/wp-content/uploads/2020/01/smap-kajang-2020.jpg
END:VEVENT
BEGIN:VEVENT
DTSTART;VALUE=DATE:20200401
DTEND;VALUE=DATE:20200406
DTSTAMP:20260422T083112
CREATED:20200122T130020Z
LAST-MODIFIED:20200309T065947Z
UID:10000007-1585699200-1586131199@archery.my
SUMMARY:2020 UUM ARCHERY OPEN (DITUNDA)
DESCRIPTION:Kejohanan Memanah Terbuka Universiti Utara Malaysia 2020\nTarikh: 1 – 5 April 2020\nLokasi Padang Sasar Memanah UUM \nKejohanan ini telah ditunda di atas arahan pihak UUM berkaitan dengan virus Covid-19. Sebarang masalah boleh hubungi EN Puvaneswaran Muniandi di talian 012-5341853
URL:https://archery.my/event/2020-uum-archery-open/
LOCATION:Padang Sasar Memanah UUM\, Universiti Utara Malaysia\, Sintok\, Kedah\, 06010\, Malaysia
ATTACH;FMTTYPE=image/jpeg:https://archery.my/wp-content/uploads/2020/01/220px-Logo_UUM.jpg
ORGANIZER;CN="Universiti Utara Malaysia (UUM)":MAILTO:amizul@uum.edu.my
END:VEVENT
BEGIN:VEVENT
DTSTART;VALUE=DATE:20200316
DTEND;VALUE=DATE:20200322
DTSTAMP:20260422T083113
CREATED:20200119T150251Z
LAST-MODIFIED:20200313T032447Z
UID:10000005-1584316800-1584835199@archery.my
SUMMARY:MSSM 2020
DESCRIPTION:KEJOHANAN MSSM – MEMANAH 2020 (DITANGGUHKAN)\nSMKA BALING (Sekolah Menengah Kebangsaan Agama Baling)\, KEDAH\nGoogle Map Venue Kejohanan
URL:https://archery.my/event/mssm-2020/
LOCATION:Baling\, Baling\,\, Kedah\, Malaysia
CATEGORIES:MSSM,Tournament
ATTACH;FMTTYPE=image/jpeg:https://archery.my/wp-content/uploads/2018/07/archery_my.jpg
END:VEVENT
BEGIN:VEVENT
DTSTART;VALUE=DATE:20200128
DTEND;VALUE=DATE:20200203
DTSTAMP:20260422T083113
CREATED:20200119T163125Z
LAST-MODIFIED:20200119T164439Z
UID:10000006-1580169600-1580687999@archery.my
SUMMARY:SELANGOR INTERNATIONAL ARCHERY CHAMPIONSHIP 2020
DESCRIPTION:  \nPersatuan Memanah Selangor (SELAR) in cooperation with Majlis Sukan Negeri Selangor (MSNS) and in collaboration with Ministry of Education Malaysia (KPM)\,  cordially invites your association to participate in the  upcoming SELANGOR INTERNATIONAL ARCHERY CHAMPIONSHIP 2020 to held in January 2020. \nDate: 28th January – 2nd February 2020\nVenue: Sekolah Kebangsaan Seksyen 7\, Shah Alam\, Selangor \nPersatuan Memanah Selangor (SELAR) in cooperation with Majlis Sukan Negeri Selangor (MSNS) and in collaboration with Ministry of Education Malaysia (KPM)\,  cordially invites your association to participate in the upcoming SELANGOR INTERNATIONAL ARCHERY CHAMPIONSHIP 2020 to held in January 2020. \nThe tournament shall follow World Archery Rules & Regulations (Outdoor Target) and the following categories are invited: \n1. Recurve Under 12 Category Boys and Girls\n2. Recurve Open Category Men and Women\n3. Compound Open Category Men and Women
URL:https://archery.my/event/selangor-international-archery-championship-2020/
LOCATION:Sekolah Kebangsaan Seksyen 7\, Shah Alam\, Jalan Plumbum 7/100\, Seksyen 7\, Shah Alam\, Selangor\, 40000\, Malaysia
CATEGORIES:Tournament
ATTACH;FMTTYPE=image/jpeg:https://archery.my/wp-content/uploads/2019/10/sgor2020.jpg
END:VEVENT
END:VCALENDAR